BEGIN:VCALENDAR
VERSION:2.0
PRODID:-//IP.Board Calendar 4.6.7//EN
METHOD:PUBLISH
CALSCALE:GREGORIAN
BEGIN:VTIMEZONE
TZID:Europe/London
TZURL:http://tzurl.org/zoneinfo/Europe/London
X-LIC-LOCATION:Europe/London
BEGIN:DAYLIGHT
TZOFFSETFROM:+0000
TZOFFSETTO:+0100
TZNAME:BST
DTSTART:20200329T020000Z
RRULE:FREQ=YEARLY;BYMONTH=3;BYDAY=-1SU
END:DAYLIGHT
BEGIN:STANDARD
TZOFFSETFROM:+0100
TZOFFSETTO:+0000
TZNAME:GMT
DTSTART:20201025T020000Z
RRULE:FREQ=YEARLY;BYMONTH=10;BYDAY=-1SU
END:STANDARD
END:VTIMEZONE
BEGIN:VTIMEZONE
TZID:Europe/London
TZURL:http://tzurl.org/zoneinfo/Europe/London
X-LIC-LOCATION:Europe/London
BEGIN:DAYLIGHT
TZOFFSETFROM:+0000
TZOFFSETTO:+0100
TZNAME:BST
DTSTART:20190331T020000Z
RRULE:FREQ=YEARLY;BYMONTH=3;BYDAY=-1SU
END:DAYLIGHT
BEGIN:STANDARD
TZOFFSETFROM:+0100
TZOFFSETTO:+0000
TZNAME:GMT
DTSTART:20191027T020000Z
RRULE:FREQ=YEARLY;BYMONTH=10;BYDAY=-1SU
END:STANDARD
END:VTIMEZONE
BEGIN:VTIMEZONE
TZID:Europe/London
TZURL:http://tzurl.org/zoneinfo/Europe/London
X-LIC-LOCATION:Europe/London
BEGIN:DAYLIGHT
TZOFFSETFROM:+0000
TZOFFSETTO:+0100
TZNAME:BST
DTSTART:20170326T020000Z
RRULE:FREQ=YEARLY;BYMONTH=3;BYDAY=-1SU
END:DAYLIGHT
BEGIN:STANDARD
TZOFFSETFROM:+0100
TZOFFSETTO:+0000
TZNAME:GMT
DTSTART:20171029T020000Z
RRULE:FREQ=YEARLY;BYMONTH=10;BYDAY=-1SU
END:STANDARD
END:VTIMEZONE
BEGIN:VEVENT
SUMMARY:Sommerfest auf Burg Hessenstein
DTSTAMP:20190203T145956Z
SEQUENCE:0
UID:463-1-ff9433175081cec10099aae46c4129de@druckwelle-hq.de
ORGANIZER;CN="Mirage":infrastruktur@druckwelle-hq.de
DESCRIPTION:\n\n	Das 19te Sommerfest von DRUCKWELLE und die 14. Ausgabe 
	unserer legendären Party auf Burg Hessenstein. Details zur Anmeldung werd
	en jeweils im Frühling bekannt gegeben. Der Anlass ist für Mitglieder vo
	n DRUCKWELLE und deren Angehörige.\n\n\n\n	\n\n
DTSTART;VALUE=DATE:20200703
DTEND;VALUE=DATE:20200706
END:VEVENT
BEGIN:VEVENT
SUMMARY:Orga-Meeting DRUCKWELLE
DTSTAMP:20190531T124022Z
SEQUENCE:0
UID:581-1-ff9433175081cec10099aae46c4129de@druckwelle-hq.de
ORGANIZER;CN="Mirage":infrastruktur@druckwelle-hq.de
DESCRIPTION:\n	Im TeamSpeak 3\n
DTSTART:20190531T170000Z
DTEND:20190531T183000Z
END:VEVENT
BEGIN:VEVENT
SUMMARY:Wartungsarbeiten
DTSTAMP:20190524T083709Z
SEQUENCE:0
UID:571-1-ff9433175081cec10099aae46c4129de@druckwelle-hq.de
ORGANIZER;CN="Mirage":infrastruktur@druckwelle-hq.de
DESCRIPTION:\n	Am Dienstag\, den 04.06.2019 werden in der Zeit zwischen 
	22:00 Uhr und 09:00 Uhr (MESZ) des folgenden Tages interne Wartungsarbeite
	n unseres Hosting-Anbieters durchgeführt. Der Server wird im Rahmen der W
	artung voraussichtlich mehrmals neu gestartet\, dadurch kommt es zu Ausfä
	llen von TeamSpeak und unserer Webseiten.\n
DTSTART:20190604T200000Z
DTEND:20190604T220000Z
END:VEVENT
BEGIN:VEVENT
SUMMARY:Sommerfest auf Burg Hessenstein
DTSTAMP:20190203T145845Z
SEQUENCE:0
UID:462-1-ff9433175081cec10099aae46c4129de@druckwelle-hq.de
ORGANIZER;CN="Mirage":infrastruktur@druckwelle-hq.de
DESCRIPTION:\n	Unser legendäres Sommerfest auf der Burg Hessenstein geh
	t in die 13. Runde\n
DTSTART;VALUE=DATE:20190705
DTEND;VALUE=DATE:20190708
END:VEVENT
BEGIN:VEVENT
SUMMARY:Orga-Meeting DRUCKWELLE \"Phase 1\"
DTSTAMP:20190125T202142Z
SEQUENCE:0
UID:450-1-ff9433175081cec10099aae46c4129de@druckwelle-hq.de
ORGANIZER;CN="Mirage":infrastruktur@druckwelle-hq.de
DESCRIPTION:\n	-\n
DTSTART:20190205T200000Z
DTEND:20190205T213000Z
END:VEVENT
BEGIN:VEVENT
SUMMARY:The Division Free Weekend
DTSTAMP:20170504T180918Z
SEQUENCE:0
UID:86-1-ff9433175081cec10099aae46c4129de@druckwelle-hq.de
ORGANIZER;CN="Art":infrastruktur@druckwelle-hq.de
DESCRIPTION:\n\n	PC: Start am 4. Mai um 19 Uhr\; Ende am 7. Mai um 22 Uh
	r\n\n\n\n	https://youtu.be/7oXSfUzjjV8\n\n\n\n	http://mein-mmo.de/the-divi
	sion-kostenlos-spielen-35/\n\n
DTSTART;VALUE=DATE:20170504
DTEND;VALUE=DATE:20170508
END:VEVENT
BEGIN:VEVENT
SUMMARY:DW Vorstand Workshop Schweiz 2017
DTSTAMP:20170502T181145Z
SEQUENCE:0
UID:85-1-ff9433175081cec10099aae46c4129de@druckwelle-hq.de
ORGANIZER;CN="Swisstex":infrastruktur@druckwelle-hq.de
DESCRIPTION:\n\n	Auch 2017 trifft sich der Vorstand von DRUCKWELLE und b
	espricht in den Schweizer Bergen die vergangenen\, aktuellen und zukünfti
	gen Themen rund um unsere Gemeinschaft. In der Abgeschiedenheit der Alpen 
	wird intensiv und eingängig an der Zukunft von DRUCKWELLE gearbeitet.\n\n
	\n\n	Weitere Informationen folgen später.\n\n
DTSTART:20171012T100000Z
DTEND:20171015T090000Z
END:VEVENT
BEGIN:VEVENT
SUMMARY:DW Sommerfest 2017 - Burg!
DTSTAMP:20170502T100825Z
SEQUENCE:0
UID:84-1-ff9433175081cec10099aae46c4129de@druckwelle-hq.de
ORGANIZER;CN="Swisstex":infrastruktur@druckwelle-hq.de
DESCRIPTION:\n\n	Der Sommerevent 2017! DRUCKWELLE veranstaltet auf der B
	urg Hessenstein das jährliche Sommerevent mit vielen coolen Leuten\, eine
	r fetten Bar\, Freibier und über 100 Familienmitgliedern. Ab ins Forum\, 
	die Infos saugen und subito anmelden.\n\n\n\n	Alle Informationen über die
	 News hier. Unbedingt rasch anmelden\, die Plätze sind beschränkt.\n\n\n
	\n	\n
DTSTART:20170623T140000Z
DTEND:20170625T090000Z
END:VEVENT
END:VCALENDAR
