BEGIN:VCALENDAR
VERSION:2.0
PRODID:-//IP.Board Calendar 4.6.7//EN
METHOD:PUBLISH
CALSCALE:GREGORIAN
BEGIN:VTIMEZONE
TZID:Europe/London
TZURL:http://tzurl.org/zoneinfo/Europe/London
X-LIC-LOCATION:Europe/London
BEGIN:DAYLIGHT
TZOFFSETFROM:+0000
TZOFFSETTO:+0100
TZNAME:BST
DTSTART:20200329T020000Z
RRULE:FREQ=YEARLY;BYMONTH=3;BYDAY=-1SU
END:DAYLIGHT
BEGIN:STANDARD
TZOFFSETFROM:+0100
TZOFFSETTO:+0000
TZNAME:GMT
DTSTART:20201025T020000Z
RRULE:FREQ=YEARLY;BYMONTH=10;BYDAY=-1SU
END:STANDARD
END:VTIMEZONE
BEGIN:VTIMEZONE
TZID:Europe/London
TZURL:http://tzurl.org/zoneinfo/Europe/London
X-LIC-LOCATION:Europe/London
BEGIN:DAYLIGHT
TZOFFSETFROM:+0000
TZOFFSETTO:+0100
TZNAME:BST
DTSTART:20190331T020000Z
RRULE:FREQ=YEARLY;BYMONTH=3;BYDAY=-1SU
END:DAYLIGHT
BEGIN:STANDARD
TZOFFSETFROM:+0100
TZOFFSETTO:+0000
TZNAME:GMT
DTSTART:20191027T020000Z
RRULE:FREQ=YEARLY;BYMONTH=10;BYDAY=-1SU
END:STANDARD
END:VTIMEZONE
BEGIN:VEVENT
SUMMARY:Raid \"Dunkle Stunden\"
DTSTAMP:20200406T114201Z
SEQUENCE:0
UID:775-25-ff9433175081cec10099aae46c4129de@druckwelle-hq.de
ORGANIZER;CN="Neni":infrastruktur@druckwelle-hq.de
DESCRIPTION:\n\n	Wollen wir mal gucken ob wir nicht eine DRUCKI-Interne 
	Raidcrew zusammen bekommen um den Raid im Normalen Modus zu säubern ?\n\n
	\n\n	 \n\n
DTSTART;VALUE=DATE:20200408
END:VEVENT
BEGIN:VEVENT
SUMMARY:Kommt schon Leute...
DTSTAMP:20190524T184302Z
SEQUENCE:0
UID:573-25-ff9433175081cec10099aae46c4129de@druckwelle-hq.de
ORGANIZER;CN="Kartoffelprofi":infrastruktur@druckwelle-hq.de
DESCRIPTION:\n	\n
DTSTART;VALUE=DATE:20190525
END:VEVENT
BEGIN:VEVENT
SUMMARY:RAAAAAAIIIIIIIIIDDDDDDDddd!!!!!111!
DTSTAMP:20190524T130507Z
SEQUENCE:0
UID:572-25-ff9433175081cec10099aae46c4129de@druckwelle-hq.de
ORGANIZER;CN="heysie":infrastruktur@druckwelle-hq.de
DESCRIPTION:\n	heute abend endlich mal den raid machen\n
DTSTART;VALUE=DATE:20190524
END:VEVENT
END:VCALENDAR
