BEGIN:VCALENDAR
VERSION:2.0
PRODID:-//IP.Board Calendar 4.6.7//EN
METHOD:PUBLISH
CALSCALE:GREGORIAN
BEGIN:VTIMEZONE
TZID:Europe/London
TZURL:http://tzurl.org/zoneinfo/Europe/London
X-LIC-LOCATION:Europe/London
BEGIN:DAYLIGHT
TZOFFSETFROM:+0000
TZOFFSETTO:+0100
TZNAME:BST
DTSTART:20240331T020000Z
RRULE:FREQ=YEARLY;BYMONTH=3;BYDAY=-1SU
END:DAYLIGHT
BEGIN:STANDARD
TZOFFSETFROM:+0100
TZOFFSETTO:+0000
TZNAME:GMT
DTSTART:20241027T020000Z
RRULE:FREQ=YEARLY;BYMONTH=10;BYDAY=-1SU
END:STANDARD
END:VTIMEZONE
BEGIN:VEVENT
SUMMARY:Eldritch Horror (Regelrunde)
DTSTAMP:20240802T184736Z
SEQUENCE:0
UID:910-31-ff9433175081cec10099aae46c4129de@druckwelle-hq.de
ORGANIZER;CN="Seik":infrastruktur@druckwelle-hq.de
DESCRIPTION:\n\n	Eldritch Horror (Regelrunde)\n\n
DTSTART:20240811T170000Z
END:VEVENT
BEGIN:VEVENT
SUMMARY:TTS Spiel: Nemesis
DTSTAMP:20240721T203847Z
SEQUENCE:0
UID:909-31-ff9433175081cec10099aae46c4129de@druckwelle-hq.de
ORGANIZER;CN="Zosh":infrastruktur@druckwelle-hq.de
DESCRIPTION:\n\n	Nach erfolgreicher Testrunde nun die richtige Partie.\n
	\n
DTSTART:20240728T170000Z
DTEND:20240728T203000Z
END:VEVENT
BEGIN:VEVENT
SUMMARY:TTS Testrunde Spiel: Nemesis
DTSTAMP:20240716T192915Z
SEQUENCE:0
UID:908-31-ff9433175081cec10099aae46c4129de@druckwelle-hq.de
ORGANIZER;CN="Zosh":infrastruktur@druckwelle-hq.de
DESCRIPTION:\n\n	Einfach ein paar Runden reinschauen\, um das Spiel zu v
	erstehen.\n\n
DTSTART:20240721T170000Z
END:VEVENT
BEGIN:VEVENT
SUMMARY:TTS neue Runde irgendwas
DTSTAMP:20240625T191644Z
SEQUENCE:0
UID:907-31-ff9433175081cec10099aae46c4129de@druckwelle-hq.de
ORGANIZER;CN="Tsork":infrastruktur@druckwelle-hq.de
DESCRIPTION:\n\n	Nebula oder irgendwas anderes?\n\n
DTSTART:20240630T173000Z
END:VEVENT
BEGIN:VEVENT
SUMMARY:TTS Zombicide Part 2
DTSTAMP:20240604T114631Z
SEQUENCE:0
UID:906-31-ff9433175081cec10099aae46c4129de@druckwelle-hq.de
ORGANIZER;CN="Zosh":infrastruktur@druckwelle-hq.de
DESCRIPTION:\n\n	Part 2\n\n
DTSTART:20240605T180000Z
DTEND:20240605T193000Z
END:VEVENT
BEGIN:VEVENT
SUMMARY:TTS Zombicide mit der 1. Erweiterung
DTSTAMP:20240528T185615Z
SEQUENCE:0
UID:905-31-ff9433175081cec10099aae46c4129de@druckwelle-hq.de
ORGANIZER;CN="Tsork":infrastruktur@druckwelle-hq.de
DESCRIPTION:\n\n	.\n\n
DTSTART:20240602T170000Z
DTEND:20240602T210000Z
END:VEVENT
END:VCALENDAR
