BEGIN:VCALENDAR
VERSION:2.0
PRODID:-//IP.Board Calendar 4.6.7//EN
METHOD:PUBLISH
CALSCALE:GREGORIAN
BEGIN:VTIMEZONE
TZID:Europe/London
TZURL:http://tzurl.org/zoneinfo/Europe/London
X-LIC-LOCATION:Europe/London
BEGIN:DAYLIGHT
TZOFFSETFROM:+0000
TZOFFSETTO:+0100
TZNAME:BST
DTSTART:20180325T020000Z
RRULE:FREQ=YEARLY;BYMONTH=3;BYDAY=-1SU
END:DAYLIGHT
BEGIN:STANDARD
TZOFFSETFROM:+0100
TZOFFSETTO:+0000
TZNAME:GMT
DTSTART:20181028T020000Z
RRULE:FREQ=YEARLY;BYMONTH=10;BYDAY=-1SU
END:STANDARD
END:VTIMEZONE
BEGIN:VTIMEZONE
TZID:Europe/London
TZURL:http://tzurl.org/zoneinfo/Europe/London
X-LIC-LOCATION:Europe/London
BEGIN:DAYLIGHT
TZOFFSETFROM:+0000
TZOFFSETTO:+0100
TZNAME:BST
DTSTART:20170326T020000Z
RRULE:FREQ=YEARLY;BYMONTH=3;BYDAY=-1SU
END:DAYLIGHT
BEGIN:STANDARD
TZOFFSETFROM:+0100
TZOFFSETTO:+0000
TZNAME:GMT
DTSTART:20171029T020000Z
RRULE:FREQ=YEARLY;BYMONTH=10;BYDAY=-1SU
END:STANDARD
END:VTIMEZONE
BEGIN:VEVENT
SUMMARY:Star Citizen
DTSTAMP:20181110T193518Z
SEQUENCE:0
UID:408-8-ff9433175081cec10099aae46c4129de@druckwelle-hq.de
ORGANIZER;CN="Zosh":infrastruktur@druckwelle-hq.de
DESCRIPTION:\n	2tes lockeres Treffen\n
DTSTART:20181118T170000Z
END:VEVENT
BEGIN:VEVENT
SUMMARY:Star Citizen
DTSTAMP:20181110T193439Z
SEQUENCE:0
UID:407-8-ff9433175081cec10099aae46c4129de@druckwelle-hq.de
ORGANIZER;CN="Zosh":infrastruktur@druckwelle-hq.de
DESCRIPTION:\n	lockeres Treffen\n
DTSTART:20181111T170000Z
END:VEVENT
BEGIN:VEVENT
SUMMARY:Camels Casual Raid
DTSTAMP:20180105T160218Z
SEQUENCE:0
UID:244-8-ff9433175081cec10099aae46c4129de@druckwelle-hq.de
ORGANIZER;CN="Xondio":infrastruktur@druckwelle-hq.de
DESCRIPTION:\n\n	Hiermit rufe ich den Camels Casual Raid (CCR) zum offiz
	iellen Sonntags Raid der Destiny 2 Druckis aus.\n\n\n\n	Einzige Bedingung 
	um dabei sein zu können ist den folgenden Guide durchgelesen und verstand
	en zu haben\,\n\n\n\n	natürlich werden wir euch die einzelnen Taktiken ge
	rne während des Raids erklären\, jedoch muss man zumindest mal gesehen h
	aben was im Raid passiert \n\n\n\n\n	Wer darf mit? \n\n\n\n	Grundsätzli
	ch alle\n\n\n\n	Wann fangen wir an?\n\n\n\n	Jeweils Sonntag 19.30\n\n\n\n	
	Anmeldung:\n\n\n\n	Falls es mal wegen 1-2 Leuten nicht geht füllen wir mi
	t Radoms / Freunden auf\, die Erfahrung haben.\n\n\n\n	Lg Camel\n\n
DTSTART:20180107T183000Z
DTEND:20180106T230000Z
END:VEVENT
BEGIN:VEVENT
SUMMARY:Camels Casual Raid
DTSTAMP:20171217T174200Z
SEQUENCE:0
UID:231-8-ff9433175081cec10099aae46c4129de@druckwelle-hq.de
ORGANIZER;CN="Xondio":infrastruktur@druckwelle-hq.de
DESCRIPTION:\n\n	Hiermit rufe ich den Camels Casual Raid (CCR) zum offiz
	iellen Sonntags Raid der Destiny 2 Druckis aus.\n\n\n\n	Einzige Bedingung 
	um dabei sein zu können ist den folgenden Guide durchgelesen und verstand
	en zu haben\,\n\n\n\n	natürlich werden wir euch die einzelnen Taktiken ge
	rne während des Raids erklären\, jedoch muss man zumindest mal gesehen h
	aben was im Raid passiert \n\n\n\n\n	Wer darf mit? \n\n\n\n	Grundsätzli
	ch alle\n\n\n\n	Wann fangen wir an?\n\n\n\n	Jeweils Sonntag 19.30\n\n\n\n	
	Anmeldung:\n\n\n\n	Im Raid Kalender bitte eintragen \n\n\n\n	Falls es mal
	 wegen 1-2 Leuten nicht geht füllen wir mit Radoms / Freunden auf\, die E
	rfahrung haben.\n\n\n\n	Lg Camel\n\n
DTSTART:20171217T183000Z
DTEND:20171216T230000Z
END:VEVENT
BEGIN:VEVENT
SUMMARY:Destiny 2 Raid
DTSTAMP:20171206T114403Z
SEQUENCE:0
UID:210-8-ff9433175081cec10099aae46c4129de@druckwelle-hq.de
ORGANIZER;CN="Xondio":infrastruktur@druckwelle-hq.de
DESCRIPTION:\n\n	Destiny 2 Dienstags-Raid 20:00 Uhr start.\n\n\n\n	Treff
	en ab 19:50 Uhr im Orbit.\n\n\n\n	Da mit dem DLC \"Fluch des Osiris\" ein 
	neue Raid-Trakt dazu gekommen ist\, werden wir nicht nur noch den Calus Ra
	id machen. Zu beginn werden wir uns besprechen und uns dann für einen Rai
	d entscheiden. Ggf. bieten wir dann Einzeltermine für die beiden Raids an
	.\n\n\n\n	Für den Calus-Raid gilt:\n\n\n\n	Powerlevel sollte mind. 300 be
	tragen.\n\n	Falls keine Raid-Kenntnisse vorhanden sind schau dir das Video
	 unten an.\n\n\n\n	Da die meisten Encounter auf mittlere bzw. langer Dista
	nz ausgetragen werden eigenen sich diese Waffen als Loadout:\n\n\n\n		Cold
	heart\n	\n	\n		Curtain Call\n	\n	\n		Merciless\n	\n	\n		Nameless Midnight\
	n	\n	\n		Origin Story\n	\n	\n		Mida Multitool\n	\n	\n		Sweet Business\n	\n
		\n		Uriels Gift\n	\n	\n		Manannan SR4\n	\n	\n		Die Waffen aus dem Raid\n	
	\n	\n		Raketenwerfer mit Cluster-Effekt (z.B: \"Applaus\, Applaus\")\n	\n	
	\n		Schwerter bei einigen Bossen\n	\n\n	Alle anderen Waffen kann man aber 
	auch verwenden.\n\n\n\n	\n		\n	\n\n\n\n	 \n\n
DTSTART:20171219T114300Z
DTEND:20171219T220000Z
ATTENDEE;CN="Xondio";CUTYPE=INDIVIDUAL;PARTSTAT=ACCEPTED:inf
	rastruktur@druckwelle-hq.de
END:VEVENT
BEGIN:VEVENT
SUMMARY:dw.Tactical ArmA 3
DTSTAMP:20171209T143044Z
SEQUENCE:0
UID:219-8-ff9433175081cec10099aae46c4129de@druckwelle-hq.de
ORGANIZER;CN="Art":infrastruktur@druckwelle-hq.de
DESCRIPTION:\n\n\n	 \n\n
DTSTART:20171211T180000Z
DTEND:20171211T210000Z
RRULE:FREQ=WEEKLY;INTERVAL=1;UNTIL=20180330T220000
END:VEVENT
BEGIN:VEVENT
SUMMARY:Destiny 2 Raid
DTSTAMP:20171206T114331Z
SEQUENCE:0
UID:209-8-ff9433175081cec10099aae46c4129de@druckwelle-hq.de
ORGANIZER;CN="Xondio":infrastruktur@druckwelle-hq.de
DESCRIPTION:\n\n	Destiny 2 Dienstags-Raid 20:00 Uhr start.\n\n\n\n	Treff
	en ab 19:50 Uhr im Orbit.\n\n\n\n	Da mit dem DLC \"Fluch des Osiris\" ein 
	neue Raid-Trakt dazu gekommen ist\, werden wir nicht nur noch den Calus Ra
	id machen. Zu beginn werden wir uns besprechen und uns dann für einen Rai
	d entscheiden. Ggf. bieten wir dann Einzeltermine für die beiden Raids an
	.\n\n\n\n	Für den Calus-Raid gilt:\n\n\n\n	Powerlevel sollte mind. 275 be
	tragen.\n\n	Falls keine Raid-Kenntnisse vorhanden sind schau dir das Video
	 unten an.\n\n\n\n	Da die meisten Encounter auf mittlere bzw. langer Dista
	nz ausgetragen werden eigenen sich diese Waffen als Loadout:\n\n\n\n		Cold
	heart\n	\n	\n		Curtain Call\n	\n	\n		Merciless\n	\n	\n		Nameless Midnight\
	n	\n	\n		Origin Story\n	\n	\n		Mida Multitool\n	\n	\n		Sweet Business\n	\n
		\n		Uriels Gift\n	\n	\n		Manannan SR4\n	\n	\n		Die Waffen aus dem Raid\n	
	\n	\n		Raketenwerfer mit Cluster-Effekt (z.B: \"Applaus\, Applaus\")\n	\n	
	\n		Schwerter bei einigen Bossen\n	\n\n	Alle anderen Waffen kann man aber 
	auch verwenden.\n\n\n\n	\n		\n	\n\n\n\n	 \n\n
DTSTART:20171212T185000Z
DTEND:20171212T220000Z
ATTENDEE;CN="Zosh";CUTYPE=INDIVIDUAL;PARTSTAT=ACCEPTED:infra
	struktur@druckwelle-hq.de
ATTENDEE;CN="Xondio";CUTYPE=INDIVIDUAL;PARTSTAT=ACCEPTED:inf
	rastruktur@druckwelle-hq.de
END:VEVENT
BEGIN:VEVENT
SUMMARY:Destiny 2 Raid
DTSTAMP:20171120T065332Z
SEQUENCE:0
UID:196-8-ff9433175081cec10099aae46c4129de@druckwelle-hq.de
ORGANIZER;CN="Xondio":infrastruktur@druckwelle-hq.de
DESCRIPTION:\n\n	Destiny 2 Dienstags-Raid 20:00 Uhr start.\n\n\n\n	Treff
	en ab 19:50 Uhr im Orbit.\n\n\n\n	Powerlevel sollte mind. 275 betragen.\n\
	n	Falls keine Raid-Kenntnisse vorhanden sind schau dir das Video unten an.
	\n\n\n\n	Da die meisten Encounter auf mittlere bzw. langer Distanz ausgetr
	agen werden eigenen sich diese Waffen als Loadout:\n\n\n\n		Coldheart\n	\n
		\n		Curtain Call\n	\n	\n		Merciless\n	\n	\n		Nameless Midnight\n	\n	\n		O
	rigin Story\n	\n	\n		Mida Multitool\n	\n	\n		Sweet Business\n	\n	\n		Uriel
	s Gift\n	\n	\n		Manannan SR4\n	\n	\n		Die Waffen aus dem Raid\n	\n	\n		Rak
	etenwerfer mit Cluster-Effekt (z.B: \"Applaus\, Applaus\")\n	\n	\n		Schwer
	ter bei einigen Bossen\n	\n\n	Alle anderen Waffen kann man aber auch verwe
	nden.\n\n\n\n	\n		\n	\n\n\n\n	 \n\n
DTSTART:20171121T185000Z
DTEND:20171121T220000Z
ATTENDEE;CN="Xondio";CUTYPE=INDIVIDUAL;PARTSTAT=ACCEPTED:inf
	rastruktur@druckwelle-hq.de
ATTENDEE;CN="Steppi";CUTYPE=INDIVIDUAL;PARTSTAT=ACCEPTED:inf
	rastruktur@druckwelle-hq.de
ATTENDEE;CN="NoFlo";CUTYPE=INDIVIDUAL;PARTSTAT=ACCEPTED:infr
	astruktur@druckwelle-hq.de
END:VEVENT
BEGIN:VEVENT
SUMMARY:Raid Mittwoch 19:30
DTSTAMP:20171119T212511Z
SEQUENCE:0
UID:195-8-ff9433175081cec10099aae46c4129de@druckwelle-hq.de
ORGANIZER;CN="Flexiz":infrastruktur@druckwelle-hq.de
DESCRIPTION:\n	beginn 19:30\n
DTSTART;VALUE=DATE:20171122
ATTENDEE;CN="Flexiz";CUTYPE=INDIVIDUAL;PARTSTAT=ACCEPTED:inf
	rastruktur@druckwelle-hq.de
ATTENDEE;CN="Ragsan";CUTYPE=INDIVIDUAL;PARTSTAT=ACCEPTED:inf
	rastruktur@druckwelle-hq.de
ATTENDEE;CN="Steppi";CUTYPE=INDIVIDUAL;PARTSTAT=ACCEPTED:inf
	rastruktur@druckwelle-hq.de
ATTENDEE;CN="Kasek";CUTYPE=INDIVIDUAL;PARTSTAT=ACCEPTED:infr
	astruktur@druckwelle-hq.de
ATTENDEE;CN="Neni";CUTYPE=INDIVIDUAL;PARTSTAT=ACCEPTED:infra
	struktur@druckwelle-hq.de
END:VEVENT
BEGIN:VEVENT
SUMMARY:WAR THUNDER - Turnier
DTSTAMP:20170906T181902Z
SEQUENCE:0
UID:135-8-ff9433175081cec10099aae46c4129de@druckwelle-hq.de
ORGANIZER;CN="3123c26bda3883311e4d5fef31a05f08":infrastruktu
	r@druckwelle-hq.de
DESCRIPTION:\n\n	Der Flensburg war auf der \"Stahl auf der Heide\" und h
	at uns freundlicherweise ein paar Gutscheine mitgebracht. 7 Tage Premium u
	nd der Premium-Panzer Pz II DAK. (Rank 1\, DE). \n\n\n	Damit alle eine Ch
	ance haben\, an einen der Gutscheine zu kommen\, rufe ich für das kommend
	e Wochenende ein kleines Turnier aus.\n\n\n\n	Ort: Polen\n\n	Erlaubte Fahr
	zeuge: LVT(A)(1) (Rang 1 USA Schwimmpanzer\, Reserve)\n\n	Wer darf teilne
	hmen: DRUCKWELLE-Kampfgruppen-Mitglieder\n\n	Schiedsrichter: Ulli\n\n\n	Tu
	rnier-Ablauf:\n\n	Alle Teilnehmer finden sich sm Samstag \, 09.09.2017\, 
	ab 16 Uhr ein und haben nur das oben angezeigte Fahrzeug im Deck. Um spät
	estens 16:30 beginnt das Turnier. Die Preise erhalten Spieler aus beiden T
	eams\, nämlich wer die meisten Kills und wer die meisten Assists hat. Ha
	t jemand in einem Team sowohl die meisten Kills als auch die meisten Assis
	ts\, erhält derjenige den zweiten Preis\, der die zweitmeisten Assists ha
	t (und dann die meisten kills\, falls zwei Spieler die gleiche Anzahl an A
	ssists haben etc).\n\n\n	Den fünften Preis erhält ein Mitglied aus dem S
	ieger-Team.\n\n\n	Alle Teilnehmer fahren in den See und kämpfen nur dort.
	  Wer andere Fahrzeuge einsetzt oder von Land aus auf Gegner schießt\, w
	ird disqualifiziert.\n\n
DTSTART:20170909T140000Z
DTEND:20170908T220000Z
END:VEVENT
BEGIN:VEVENT
SUMMARY:The hunt for Bismarck
DTSTAMP:20170515T174102Z
SEQUENCE:0
UID:88-8-ff9433175081cec10099aae46c4129de@druckwelle-hq.de
ORGANIZER;CN="Syreal":infrastruktur@druckwelle-hq.de
DESCRIPTION:\n\n	WoWS\n\n\n\n	https://worldofwarships.eu/en/news/special
	/hunt-for-bismarck/\n\n
DTSTART:20170518T220000Z
DTEND:20170607T220000Z
END:VEVENT
END:VCALENDAR
