BEGIN:VCALENDAR
VERSION:2.0
PRODID:-//IP.Board Calendar 4.6.7//EN
METHOD:PUBLISH
CALSCALE:GREGORIAN
X-WR-CALNAME:PlanetSide 2
BEGIN:VTIMEZONE
TZID:Europe/London
TZURL:http://tzurl.org/zoneinfo/Europe/London
X-LIC-LOCATION:Europe/London
BEGIN:DAYLIGHT
TZOFFSETFROM:+0000
TZOFFSETTO:+0100
TZNAME:BST
DTSTART:20160327T020000Z
RRULE:FREQ=YEARLY;BYMONTH=3;BYDAY=-1SU
END:DAYLIGHT
BEGIN:STANDARD
TZOFFSETFROM:+0100
TZOFFSETTO:+0000
TZNAME:GMT
DTSTART:20161030T020000Z
RRULE:FREQ=YEARLY;BYMONTH=10;BYDAY=-1SU
END:STANDARD
END:VTIMEZONE
BEGIN:VEVENT
SUMMARY:[PS2] Aktiv Squad™
DTSTAMP:20160510T103726Z
SEQUENCE:0
UID:12-7-ff9433175081cec10099aae46c4129de@druckwelle-hq.de
ORGANIZER;CN="YA5":infrastruktur@druckwelle-hq.de
DESCRIPTION:\n	 \n	\n		Das DRUCKWELLE Aktiv-Squad™ ist ein Zusammensc
	hluss von DW.PS2 Mitgliedern\, welche das zielorientierte taktische Teampl
	ay fokusieren und trainieren um \n	\n\n	\n		erfolgreich an PlanetSide 2 E-
	Sport Ereignissen teilzunehmen.\n	\n\n	\n		Eine Anmeldung zu diesem Event 
	ist im Planetside 2 Bereich unter Events zu finden.\n	\n\n	\n		Da im AS da
	s Zusammenspiel sowie taktisches Vorgehen im Mittelpunkt steht\, wird dies
	es durch regelmäßiges zusammen spielen \n	\n\n	\n		und durch mehr oder m
	inder statische Squadzusammenstellung gefestigt.\n	\n\n	\n		Es werden takt
	ische Abläufe eingeübt und stetig verbessert\, um so das AS™ effektiv 
	und flexibel zu gestalten.\n	\n\n	\n		 \n	\n\n	\n		Vom \"Squad Movement\"
	 über \"Focus Fire\" bis hin zu \"Crowd Control \"\, wird durch Schwerpun
	kte in den \n	\n\n	\n		AS™-Veranstaltungen und Trainings eingegangen\, s
	tetig geübt und perfektioniert .\n	\n\n	\n		 \n	\n\n	\n		Geleitet wird d
	as Event von @Wh1tebe4rd und @Xondio\n	\n
DTSTART:20160516T180000Z
DTEND:20160516T200000Z
RRULE:FREQ=WEEKLY;INTERVAL=1
END:VEVENT
END:VCALENDAR
