BEGIN:VCALENDAR
VERSION:2.0
PRODID:-//IP.Board Calendar 4.6.7//EN
METHOD:PUBLISH
CALSCALE:GREGORIAN
X-WR-CALNAME:Termine
BEGIN:VTIMEZONE
TZID:Europe/London
TZURL:http://tzurl.org/zoneinfo/Europe/London
X-LIC-LOCATION:Europe/London
BEGIN:DAYLIGHT
TZOFFSETFROM:+0000
TZOFFSETTO:+0100
TZNAME:BST
DTSTART:20190331T020000Z
RRULE:FREQ=YEARLY;BYMONTH=3;BYDAY=-1SU
END:DAYLIGHT
BEGIN:STANDARD
TZOFFSETFROM:+0100
TZOFFSETTO:+0000
TZNAME:GMT
DTSTART:20191027T020000Z
RRULE:FREQ=YEARLY;BYMONTH=10;BYDAY=-1SU
END:STANDARD
END:VTIMEZONE
BEGIN:VEVENT
SUMMARY:Nun wirklich ne neue Runde:)
DTSTAMP:20190311T213503Z
SEQUENCE:0
UID:495-23-ff9433175081cec10099aae46c4129de@druckwelle-hq.de
ORGANIZER;CN="Tsork":infrastruktur@druckwelle-hq.de
DESCRIPTION:\n	Mindestens zu acht\, wenn Lembas Zeit hat:)\n
DTSTART:20190318T190000Z
DTEND:20190318T213000Z
ATTENDEE;CN="Tsork";CUTYPE=INDIVIDUAL;PARTSTAT=ACCEPTED:infr
	astruktur@druckwelle-hq.de
ATTENDEE;CN="Zosh";CUTYPE=INDIVIDUAL;PARTSTAT=ACCEPTED:infra
	struktur@druckwelle-hq.de
ATTENDEE;CN="tdkoe-descander";CUTYPE=INDIVIDUAL;PARTSTAT=ACC
	EPTED:infrastruktur@druckwelle-hq.de
ATTENDEE;CN="LordofCaldari";CUTYPE=INDIVIDUAL;PARTSTAT=ACCEP
	TED:infrastruktur@druckwelle-hq.de
ATTENDEE;CN="Raschtor";CUTYPE=INDIVIDUAL;PARTSTAT=ACCEPTED:i
	nfrastruktur@druckwelle-hq.de
END:VEVENT
END:VCALENDAR
